BEGIN:VCALENDAR
VERSION:2.0
PRODID:-//eventon.com NONSGML v1.0//EN
CALSCALE:GREGORIAN
METHOD:PUBLISH
BEGIN:VEVENT
UID:69e5b570773c3
DTSTAMP:20260420T051112Z
DTSTART:20260907T220000Z
DTEND:20260921T220000Z
LOCATION:
SUMMARY:China Studienreise im September 2026
DESCRIPTION:China-Studienreise für ErnährungsberaterInnen mit Ina Diolosa
  2026 an der Chengdu Universität in Sechuan/China. Bei Interesse kontaktie
 ren Sie mich gerne telefonisch oder per E-Mail. Weitere Informationen werde
 n auch unter diesem Link auf meiner Website laufend aktualisiert. Hier der 
 Link zum Folder\nhttps://www.inadiolosa.com/events/china-studienreise-2025/
URL:https://www.inadiolosa.com/events/china-studienreise-2025/
END:VEVENT
END:VCALENDAR