BEGIN:VCALENDAR
VERSION:2.0
PRODID:-//eventon.com NONSGML v1.0//EN
CALSCALE:GREGORIAN
METHOD:PUBLISH
BEGIN:VEVENT
UID:69e5b523029d5
DTSTAMP:20260420T050955Z
DTSTART:20260523T080000Z
DTEND:20260529T150000Z
LOCATION:Shambhala Josefstädterstr. 5\,  1080 Wien
SUMMARY:Qi Gong & I-Ging auf Kreta
DESCRIPTION:Ort Makrigialos\,  Südost Kreta (Flughafen Heraklion) Datum 23
 . bis 29. Mai 2026 Inhalte Qi Gong und I-Ging Zeiten Unterricht vormittags 
 und abends\,  gemeinsame Ausflüge und ausreichend Zeit zum Baden und Entsp
 annen Kursgebühr 400 Euro Anmeldung für Detail-Informationen bitte ein un
 verbindliches mail senden an: taijiarts@chello.at oder office@inatcm.com Fo
 lder zur Veranstaltung folgt!\nhttps://www.inadiolosa.com/events/qi-gong-i-
 ging-auf-kreta2026/
URL:https://www.inadiolosa.com/events/qi-gong-i-ging-auf-kreta2026/
END:VEVENT
END:VCALENDAR