BEGIN:VCALENDAR
VERSION:2.0
PRODID:-//eventon.com NONSGML v1.0//EN
CALSCALE:GREGORIAN
METHOD:PUBLISH
BEGIN:VEVENT
UID:69e5b5b30b9e0
DTSTAMP:20260420T051219Z
DTSTART:20261107T080000Z
DTEND:20261108T120000Z
LOCATION:Creating Space Seefeldstrasse 239
SUMMARY:TCM Light – kompakt und verständlich
DESCRIPTION:TCM Light – kompakt und verständlich Möchtest du die Tradit
 ionelle Chinesische Medizin (TCM) praxisnah verstehen\,  ohne jahrelange Au
 sbildung? Dann ist dieser Lehrgang genau das richtige für dich! Dein Zugan
 g zur TCM-Welt in 3 Modulen – verständlich und praxisbezogen. Das Ziel i
 st\,  Zusammenhänge von Körper\,  Emotion und Ernährung aus Sicht der[..
 ]\nhttps://www.inadiolosa.com/events/tcm-light-2026-kompakt-und-verstaendli
 chaus-sicht-der-tcm-in-3-modulen-teil-3-nahrungsmittel-fuer-herz-und-lunge-
 copy-copy/
URL:https://www.inadiolosa.com/events/tcm-light-2026-kompakt-und-verstaendlichaus-sicht-der-tcm-in-3-modulen-teil-3-nahrungsmittel-fuer-herz-und-lunge-copy-copy/
END:VEVENT
END:VCALENDAR