BEGIN:VCALENDAR
VERSION:2.0
PRODID:-//eventon.com NONSGML v1.0//EN
CALSCALE:GREGORIAN
METHOD:PUBLISH
BEGIN:VEVENT
UID:69e5b68693950
DTSTAMP:20260420T051550Z
DTSTART:20261107T080000Z
DTEND:20261108T120000Z
LOCATION:Creating Space Seefeldstrasse 239
SUMMARY:TCM Light 1: Grundlagen und Basiswissen der TCM
DESCRIPTION:In diesem Modul erhälst du die Grundlagen und das Basiswissen 
 der TCM. So verstehst du die Zusammenhänge und legst den Grundstein für D
 iagnosemethoden\,  Diäetetik und Kräuterheilkunde. Inhalt Modul 1:  Grun
 dlagen und Basiswissen der TCM  ·      Daoismus und die Lehre von Yin 
 und Yang ·      Die 4[..]\nhttps://www.inadiolosa.com/events/tcm-light-
 1-grundlagen-und-basiswissen-der-tcm/
URL:https://www.inadiolosa.com/events/tcm-light-1-grundlagen-und-basiswissen-der-tcm/
END:VEVENT
END:VCALENDAR