BEGIN:VCALENDAR
VERSION:2.0
PRODID:-//eventon.com NONSGML v1.0//EN
CALSCALE:GREGORIAN
METHOD:PUBLISH
BEGIN:VEVENT
UID:69e5b56b2c0e6
DTSTAMP:20260420T051107Z
DTSTART:20270123T080000Z
DTEND:20270124T120000Z
LOCATION:Creating Space Seefeldstrasse 239
SUMMARY:TCM Light 2: Diagnosemethoden der TCM
DESCRIPTION:Inhalt Modul 2:  Diagnosemethoden der TCM  ·      Befragu
 ng: Was kann und muss in welcher Reihenfolge erfragt werden ·      Puls
  Tastung und Deutung ·      Zunge: Betrachtung und Interpretation ·  
     Gesichtsmerkmale erkennen und deuten ·      Fallbeispiele Datum\,
   Ort und Kurszeiten  •  23. &#8211;[..]\nhttps://www.inadiolosa.com/e
 vents/tcm-light-2-diagnosemethoden-der-tcmswissen-der-tcm-copy/
URL:https://www.inadiolosa.com/events/tcm-light-2-diagnosemethoden-der-tcmswissen-der-tcm-copy/
END:VEVENT
END:VCALENDAR