BEGIN:VCALENDAR
VERSION:2.0
PRODID:-//eventon.com NONSGML v1.0//EN
CALSCALE:GREGORIAN
METHOD:PUBLISH
BEGIN:VEVENT
UID:69e5b5b31fdb7
DTSTAMP:20260420T051219Z
DTSTART:20270320T080000Z
DTEND:20270321T120000Z
LOCATION:Creating Space Seefeldstrasse 239
SUMMARY:TCM Light 3: Therapiemethoden der TCM
DESCRIPTION:Dieses Modul führt uns jetzt in die therapeutische Praxis der
  TCM. Behandelt werden die Prinzipien der Nahrungsmittelwirkungen und der K
 räutereinteilung: Wie erstelle ich ein Rezept\,  einen Ernährungsplan? Wi
 r lernen Ernährungsempfehlungen zu geben und gewinnen einen Einblick in di
 e Erstellung von Kräuterrezepten. Ein kompakter Überblick zu den Prinzipi
 en der Akupunktur ergänzt[..]\nhttps://www.inadiolosa.com/events/tcm-light
 -3-therapiemethoden-der-tcm/
URL:https://www.inadiolosa.com/events/tcm-light-3-therapiemethoden-der-tcm/
END:VEVENT
END:VCALENDAR