BEGIN:VCALENDAR
VERSION:2.0
PRODID:-//eventon.com NONSGML v1.0//EN
CALSCALE:GREGORIAN
METHOD:PUBLISH
BEGIN:VEVENT
UID:69e5b5b4dfc0d
DTSTAMP:20260420T051220Z
DTSTART:20261104T180000Z
DTEND:20261104T193000Z
LOCATION:Live Online Vortrag
SUMMARY:Sterben und Sterbebegleitung
DESCRIPTION:Sterben und Sterbebegleitung – philosophische und praktische 
 Ansätze aus dem Buddhismus und der TCM Dieser Abendvortrag bietet einen ve
 rtieften Einblick in die körperlichen und geistigen Vorgänge beim Sterben
 . Ina vermittelt praktische Empfehlungen für eine achtsame Begleitung und 
 wie man lernt\,  Ängste vor dem Tod zu lindern und den Übergang ins[..]\n
 https://www.inadiolosa.com/events/sterben-und-sterbebegleitung/
URL:https://www.inadiolosa.com/events/sterben-und-sterbebegleitung/
END:VEVENT
END:VCALENDAR