BEGIN:VCALENDAR
VERSION:2.0
PRODID:-//eventon.com NONSGML v1.0//EN
CALSCALE:GREGORIAN
METHOD:PUBLISH
BEGIN:VEVENT
UID:69e5b5bd886be
DTSTAMP:20260420T051229Z
DTSTART:20260313T080000Z
DTEND:20260614T110000Z
LOCATION:Shambhala JosefstÃ¤dterstr. 5\,  1080 Wien
SUMMARY:TCM-ErnÃ¤hrung: Angewandte TCM â€“ Gesund auf allen Ebenen
DESCRIPTION:Gesund auf allen Ebenen mit ErnÃ¤hrung und KrÃ¤utern Ein praxis
 bezogener Lehrgang\,  der uns darin unterstÃ¼tzt Ungleichgewichte rechtzeit
 ig zu erkennen und mit dem Wissen um die Wirkungsweise der einzelnen Nahrun
 gsmittel und KrÃ¤uter gezielt ein energetisches Gleichgewicht herzustellenâ
 €¦â€¦.. Wolltest du schon immer wissen\,  wie du deine Gesundheit\,  dein W
 ohlbefinden und deine Lebensenergie[..]\nhttps://www.inadiolosa.com/events/
 tcm-ernaehrung-angewandte-tcm-gesund-auf-allen-ebenen/
URL:https://www.inadiolosa.com/events/tcm-ernaehrung-angewandte-tcm-gesund-auf-allen-ebenen/
END:VEVENT
END:VCALENDAR