BEGIN:VCALENDAR
VERSION:2.0
PRODID:-//eventon.com NONSGML v1.0//EN
CALSCALE:GREGORIAN
METHOD:PUBLISH
BEGIN:VEVENT
UID:69e5b67708fa7
DTSTAMP:20260420T051535Z
DTSTART:20260419T090000Z
DTEND:20260419T130000Z
LOCATION:Creating Space Seefeldstrasse 239
SUMMARY:Sporternährung & Regeneration aus Sicht der TCM
DESCRIPTION:Regeneration stärken und Ressourcen pflegen. Die TCM versteht 
 sportliche Leistung als Balance von Kraftaufbau\,  Erholung und innerem Gle
 ichgewicht. Die TCM-Ernährung dient der Pflege von Qi und Blut sowie dem S
 chutz vor Erschöpfung.Inhalte – Schwerpunkte Energetische Grundlagen von
  Qi\,  Blut und Essenz Umgang mit Hitze\,  Feuchtigkeit und Kälte im Train
 ing Ernährungsstrategien[..]\nhttps://www.inadiolosa.com/events/sporternae
 hrung-regeneration-aus-sicht-der-tcm/
URL:https://www.inadiolosa.com/events/sporternaehrung-regeneration-aus-sicht-der-tcm/
END:VEVENT
END:VCALENDAR