BEGIN:VCALENDAR
VERSION:2.0
PRODID:-//eventon.com NONSGML v1.0//EN
CALSCALE:GREGORIAN
METHOD:PUBLISH
BEGIN:VEVENT
UID:69e5b5eba32aa
DTSTAMP:20260420T051315Z
DTSTART:20260509T090000Z
DTEND:20260510T130000Z
LOCATION:Creating Space Seefeldstrasse 239
SUMMARY:TCM & Anti Aging: Die Rückkehr des Frühlings
DESCRIPTION:Daoistische Übungen &#8211; Ernährung &#8211; Kräuter Die Ku
 nst der Langlebigkeit mit Yonghui Deistler-Yi und Ina Diolosa Die TCM besch
 reibt gesundes Älterwerden als „Yang Sheng Fa“. Gemeint ist die bewuss
 te Pflege von Körper und Lebensweise. Wer frühzeitig weiss\,  worauf zu a
 chten ist\,  kann diesen Lebensabschnitt gut vorbereitet gestalten und eine
  stabile[..]\nhttps://www.inadiolosa.com/events/ein-wochenende-mit-ina-und-
 yonghui-in-zuerich/
URL:https://www.inadiolosa.com/events/ein-wochenende-mit-ina-und-yonghui-in-zuerich/
END:VEVENT
END:VCALENDAR